{ "currentVersion": 10.61, "serviceDescription": "

Map of Horry County aerials in the year 2014<\/span><\/span><\/p><\/div>", "name": "Imagery/2014_HorryAerialsCache", "description": "

Map of Horry County aerials in the year 2014<\/span><\/span><\/p><\/div>", "extent": { "xmin": 2500000, "ymin": 630000.0000000298, "xmax": 2745000, "ymax": 910000.0000000298, "spatialReference": { "wkid": 3361, "latestWkid": 3361 } }, "initialExtent": { "xmin": 2500000, "ymin": 630000.0000000298, "xmax": 2745000, "ymax": 910000.0000000298, "spatialReference": { "wkid": 3361, "latestWkid": 3361 } }, "fullExtent": { "xmin": 2500000, "ymin": 630000.0000000298, "xmax": 2745000, "ymax": 910000.0000000298, "spatialReference": { "wkid": 3361, "latestWkid": 3361 } }, "pixelSizeX": 0.5, "pixelSizeY": 0.5, "bandCount": 4, "pixelType": "U8", "minPixelSize": 0, "maxPixelSize": 0, "copyrightText": "", "serviceDataType": "esriImageServiceDataTypeGeneric", "minValues": [ 0, 0, 0, 0 ], "maxValues": [ 255, 255, 255, 255 ], "meanValues": [ 90.66861937653226, 95.13197750624327, 74.27327844571236, 143.44575444063844 ], "stdvValues": [ 43.144657449828216, 40.696869841367985, 29.640095611642042, 42.315739531985315 ], "objectIdField": "OBJECTID", "fields": [ { "name": "OBJECTID", "type": "esriFieldTypeOID", "alias": "OBJECTID", "domain": null }, { "name": "Name", "type": "esriFieldTypeString", "alias": "Name", "domain": null, "length": 50 }, { "name": "MinPS", "type": "esriFieldTypeDouble", "alias": "MinPS", "domain": null }, { "name": "MaxPS", "type": "esriFieldTypeDouble", "alias": "MaxPS", "domain": null }, { "name": "LowPS", "type": "esriFieldTypeDouble", "alias": "LowPS", "domain": null }, { "name": "HighPS", "type": "esriFieldTypeDouble", "alias": "HighPS", "domain": null }, { "name": "Category", "type": "esriFieldTypeInteger", "alias": "Category", "domain": null }, { "name": "Tag", "type": "esriFieldTypeString", "alias": "Tag", "domain": null, "length": 20 }, { "name": "GroupName", "type": "esriFieldTypeString", "alias": "GroupName", "domain": null, "length": 50 }, { "name": "ProductName", "type": "esriFieldTypeString", "alias": "ProductName", "domain": null, "length": 50 }, { "name": "CenterX", "type": "esriFieldTypeDouble", "alias": "CenterX", "domain": null }, { "name": "CenterY", "type": "esriFieldTypeDouble", "alias": "CenterY", "domain": null }, { "name": "ZOrder", "type": "esriFieldTypeDouble", "alias": "ZOrder", "domain": null }, { "name": "SOrder", "type": "esriFieldTypeDouble", "alias": "SOrder", "domain": null }, { "name": "StereoID", "type": "esriFieldTypeString", "alias": "StereoID", "domain": null, "length": 50 }, { "name": "Shape", "type": "esriFieldTypeGeometry", "alias": "Shape", "domain": null } ], "capabilities": "Catalog,Image,Metadata", "defaultMosaicMethod": "Center", "allowedMosaicMethods": "Center,NorthWest,LockRaster,ByAttribute,Nadir,Viewpoint,Seamline,None", "sortField": "", "sortValue": null, "mosaicOperator": "First", "maxDownloadSizeLimit": 0, "defaultCompressionQuality": 75, "defaultResamplingMethod": "Bilinear", "maxImageHeight": 4100, "maxImageWidth": 15000, "maxRecordCount": 1000, "maxDownloadImageCount": 20, "maxMosaicImageCount": 20, "allowRasterFunction": true, "rasterFunctionInfos": [ { "name": "None", "description": "A No-Op Function.", "help": "" } ], "rasterTypeInfos": [ { "name": "Raster Dataset", "description": "Supports all ArcGIS Raster Datasets", "help": "" } ], "mensurationCapabilities": "", "hasHistograms": true, "hasColormap": false, "hasRasterAttributeTable": false, "minScale": 0, "maxScale": 0, "exportTilesAllowed": false, "hasMultidimensions": false, "supportsStatistics": true, "supportsAdvancedQueries": true, "editFieldsInfo": null, "ownershipBasedAccessControlForRasters": null, "allowComputeTiePoints": false, "useStandardizedQueries": true, "advancedQueryCapabilities": { "useStandardizedQueries": true, "supportsStatistics": true, "supportsOrderBy": true, "supportsDistinct": true, "supportsPagination": true }, "spatialReference": { "wkid": 3361, "latestWkid": 3361 } }